BEGIN:VCALENDAR
VERSION:2.0
PRODID:-//wp-events-plugin.com//7.2.3.1//EN
BEGIN:VEVENT
UID:193@blog.ukxxxpass.xxx
DTSTART:20240710T193000Z
DTEND:20240710T223000Z
DTSTAMP:20240613T074215Z
URL:https://blog.ukxxxpass.xxx/events/10th-july-bristol-sammie-and-sammi/
SUMMARY:Bukkake and Gangbang 10th July Bristol
DESCRIPTION:Bukkake and gangbang party\, 10th July June in Bristol with gor
 geous inked girls Sammie and Sammi. Come and join us!
ATTACH;FMTTYPE=image/jpeg:https://i0.wp.com/blog.ukxxxpass.xxx/wp-content/
 uploads/2024/06/BRISTOL_JULY_10th-scaled.jpg?fit=1741%2C2560&ssl=1
LOCATION:Dare2Swing\, 1 Alfred Street\, St. Philips\, Bristol\, BS2 ORF\, U
 nited Kingdom
X-APPLE-STRUCTURED-LOCATION;VALUE=URI;X-ADDRESS=1 Alfred Street\, St. Phili
 ps\, Bristol\, BS2 ORF\, United Kingdom;X-APPLE-RADIUS=100;X-TITLE=Dare2Sw
 ing:geo:0,0
END:VEVENT
END:VCALENDAR