BEGIN:VCALENDAR
VERSION:2.0
PRODID:-//wp-events-plugin.com//7.2.3.1//EN
BEGIN:VEVENT
UID:130@blog.ukxxxpass.xxx
DTSTART:20220310T200000Z
DTEND:20220310T233000Z
DTSTAMP:20220221T203633Z
URL:https://blog.ukxxxpass.xxx/events/10th-march-sunflower-doll-tamsin-ril
 ey/
SUMMARY:Bukkake and Gangbang Party 10th March with Tamsin Riley and Sunflow
 er Doll
DESCRIPTION:Bukkake and Gangbang party\, 10th March 8pm at Roxy Den Walsall
  with Sunflower Doll and Tamsin Riley. Come and join in!
ATTACH;FMTTYPE=image/jpeg:https://i0.wp.com/blog.ukxxxpass.xxx/wp-content/
 uploads/2022/02/MAR10th_Walsall-1-scaled.jpg?fit=1810%2C2560&ssl=1
LOCATION:Roxy's Den\, 33 Midland Road\, Walsall\, West Midlands\, WS1 3QQ\,
  United Kingdom
X-APPLE-STRUCTURED-LOCATION;VALUE=URI;X-ADDRESS=33 Midland Road\, Walsall\,
  West Midlands\, WS1 3QQ\, United Kingdom;X-APPLE-RADIUS=100;X-TITLE=Roxy'
 s Den:geo:0,0
END:VEVENT
END:VCALENDAR