BEGIN:VCALENDAR
VERSION:2.0
PRODID:-//wp-events-plugin.com//7.2.3.1//EN
BEGIN:VEVENT
UID:7@blog.ukxxxpass.xxx
DTSTART:20160211T200000Z
DTEND:20160211T223000Z
DTSTAMP:20160205T223915Z
URL:https://blog.ukxxxpass.xxx/events/11th-feb-bukkake-and-gangbang-party-
 with-bree-branning-and-miassx/
SUMMARY:11th Feb Bukkake and Gangbang party with Bree Branning and MiaSSX
DESCRIPTION:11th Feb Bukkake and Gangbang party at the r3troclub\, Walsall\
 , with Bree Branning and MiaSSX
ATTACH;FMTTYPE=image/jpeg:https://i0.wp.com/blog.ukxxxpass.xxx/wp-content/
 uploads/2016/02/Feb11th.jpg?fit=905%2C1280&ssl=1
LOCATION:r3troclub\, 33 Midland Road\, Walsall\, West Midlands\, WS1 3QQ\, 
 United Kingdom
GEO:52.5818095;-1.9855268000000024
X-APPLE-STRUCTURED-LOCATION;VALUE=URI;X-ADDRESS=33 Midland Road\, Walsall\,
  West Midlands\, WS1 3QQ\, United Kingdom;X-APPLE-RADIUS=100;X-TITLE=r3tro
 club:geo:52.5818095,-1.9855268000000024
END:VEVENT
END:VCALENDAR