BEGIN:VCALENDAR
VERSION:2.0
PRODID:-//wp-events-plugin.com//7.2.3.1//EN
BEGIN:VEVENT
UID:1@blog.ukxxxpass.xxx
DTSTART:20151112T200000Z
DTEND:20151112T223000Z
DTSTAMP:20151109T211421Z
URL:https://blog.ukxxxpass.xxx/events/12th-nov-bukkake-and-gangbang-with-p
 ixiee-little-and-porscher-wells/
SUMMARY:12th Nov - Bukkake and Gangbang with Pixiee Little and Porscher Wel
 ls
DESCRIPTION:Sexy Porscher Wells joins us for another bukkake and gangbang p
 arty\, this time with a gorgeous new model by the name of Pixiee Little.
ATTACH;FMTTYPE=image/jpeg:https://i0.wp.com/blog.ukxxxpass.xxx/wp-content/
 uploads/2015/02/12_11_15_Pixiee_Porscher.jpg?fit=905%2C1280&ssl=1
LOCATION:The Private Club\, Wainwright Street\, Aston\, West Midlands\, B6 
 5TJ\, Birmingham\, United Kingdom
GEO:52.5002541;-1.8779884000000493
X-APPLE-STRUCTURED-LOCATION;VALUE=URI;X-ADDRESS=Wainwright Street\, Aston\,
  West Midlands\, B6 5TJ\, Birmingham\, United Kingdom;X-APPLE-RADIUS=100;X
 -TITLE=The Private Club:geo:52.5002541,-1.8779884000000493
END:VEVENT
END:VCALENDAR