BEGIN:VCALENDAR
VERSION:2.0
PRODID:-//wp-events-plugin.com//7.2.3.1//EN
BEGIN:VEVENT
UID:119@blog.ukxxxpass.xxx
DTSTART:20210915T200000Z
DTEND:20210915T233000Z
DTSTAMP:20210909T173244Z
URL:https://blog.ukxxxpass.xxx/events/15th_september_mandy-foxxx_annabel_l
 ee/
SUMMARY:Gangbang party\, 15th September with Mandy Foxxx and Annabel Lee
DESCRIPTION:Bukkake and gangbang\, Birmingham 15th September\, 8pm. Featuri
 ng models Mandy Foxxx and Annabel Lee. Come and join in!
ATTACH;FMTTYPE=image/jpeg:https://i0.wp.com/blog.ukxxxpass.xxx/wp-content/
 uploads/2021/08/SEPT15th_BHAM_Portrait-1-scaled.jpg?fit=1810%2C2560&ssl=1
LOCATION:The Private Club\, Wainwright Street\, Aston\, West Midlands\, B6 
 5TJ\, Birmingham\, United Kingdom
GEO:52.5002541;-1.8779884000000493
X-APPLE-STRUCTURED-LOCATION;VALUE=URI;X-ADDRESS=Wainwright Street\, Aston\,
  West Midlands\, B6 5TJ\, Birmingham\, United Kingdom;X-APPLE-RADIUS=100;X
 -TITLE=The Private Club:geo:52.5002541,-1.8779884000000493
END:VEVENT
END:VCALENDAR