BEGIN:VCALENDAR
VERSION:2.0
PRODID:-//wp-events-plugin.com//7.2.3.1//EN
BEGIN:VEVENT
UID:117@blog.ukxxxpass.xxx
DTSTART:20210818T200000Z
DTEND:20210818T233000Z
DTSTAMP:20210720T203617Z
URL:https://blog.ukxxxpass.xxx/events/18th-august-rebecca-smyth-tatty-tyle
 r-demi-delights/
SUMMARY:‘Late Xmas’ Gangbang party\, 18th August with Rebecca Smyth\, T
 atty Tyler and Demi Delights
DESCRIPTION:'Late Christmas' bukkake and gangbang\, Birmingham 18th August\
 , 8pm. Featuring Rebecca Smyth\, Tatty Tyler and Demi Delights
ATTACH;FMTTYPE=image/jpeg:https://i0.wp.com/blog.ukxxxpass.xxx/wp-content/
 uploads/2021/07/AUG18th_BIRMINGHAM.jpg?fit=905%2C1280&ssl=1
LOCATION:The Private Club\, Wainwright Street\, Aston\, West Midlands\, B6 
 5TJ\, Birmingham\, United Kingdom
GEO:52.5002541;-1.8779884000000493
X-APPLE-STRUCTURED-LOCATION;VALUE=URI;X-ADDRESS=Wainwright Street\, Aston\,
  West Midlands\, B6 5TJ\, Birmingham\, United Kingdom;X-APPLE-RADIUS=100;X
 -TITLE=The Private Club:geo:52.5002541,-1.8779884000000493
END:VEVENT
END:VCALENDAR