BEGIN:VCALENDAR
VERSION:2.0
PRODID:-//wp-events-plugin.com//7.2.3.1//EN
BEGIN:VEVENT
UID:3@blog.ukxxxpass.xxx
DTSTART;VALUE=DATE:20151201
DTEND;VALUE=DATE:20151202
DTSTAMP:20151119T204102Z
URL:https://blog.ukxxxpass.xxx/events/1st-dec-christmas-bukkake-and-gangba
 ng-party/
SUMMARY:1st Dec - Christmas Bukkake and Gangbang Party - London
DESCRIPTION:HUGE Christmas bukkake and gangbang shoot party for Splatbukkak
 e.com. *MINIMUM* of 7 girls partying with us\, including three published p
 ornstars!
END:VEVENT
END:VCALENDAR