BEGIN:VCALENDAR
VERSION:2.0
PRODID:-//wp-events-plugin.com//7.2.3.1//EN
BEGIN:VEVENT
UID:166@blog.ukxxxpass.xxx
DTSTART:20230524T200000Z
DTEND:20230524T233000Z
DTSTAMP:20230515T231243Z
URL:https://blog.ukxxxpass.xxx/events/24th-may-isabella-bangs-meghan-label
 le/
SUMMARY:Bukkake and Gangbang 24th May with Isabella Bangs and Meghan Labell
 e
DESCRIPTION:Bukkake and Gangbang\, 24th May 8pm at The Private Club\, Aston
 \, Birmingham. Featuring models Isabella Bangs and Meghan Labelle. Come an
 d join in!
ATTACH;FMTTYPE=image/jpeg:https://i0.wp.com/blog.ukxxxpass.xxx/wp-content/
 uploads/2023/05/May24th_Bham-1-scaled.jpg?fit=1810%2C2560&ssl=1
LOCATION:The Private Club\, Wainwright Street\, Aston\, West Midlands\, B6 
 5TJ\, Birmingham\, United Kingdom
GEO:52.5002541;-1.8779884000000493
X-APPLE-STRUCTURED-LOCATION;VALUE=URI;X-ADDRESS=Wainwright Street\, Aston\,
  West Midlands\, B6 5TJ\, Birmingham\, United Kingdom;X-APPLE-RADIUS=100;X
 -TITLE=The Private Club:geo:52.5002541,-1.8779884000000493
END:VEVENT
END:VCALENDAR