BEGIN:VCALENDAR
VERSION:2.0
PRODID:-//wp-events-plugin.com//7.2.3.1//EN
BEGIN:VEVENT
UID:2@blog.ukxxxpass.xxx
DTSTART:20151124T200000Z
DTEND:20151124T223000Z
DTSTAMP:20160325T085538Z
URL:https://blog.ukxxxpass.xxx/events/24th-nov-bukkake-and-gangbang-with-g
 ina-lynn-jameson-and-the-body/
SUMMARY:24th Nov - Bukkake and Gangbang with Gina Lynn Jameson and The Body
DESCRIPTION:Sexy Gina Lynn Jameson and Victoria 'The Body' join us for a bu
 kkake and gangbang shoot party on Tuesday 24th November. 
ATTACH;FMTTYPE=image/jpeg:https://i0.wp.com/blog.ukxxxpass.xxx/wp-content/
 uploads/2015/11/24_11_15_BodyGinaJameson1.jpg?fit=905%2C1280&ssl=1
LOCATION:The Private Club\, Wainwright Street\, Aston\, West Midlands\, B6 
 5TJ\, Birmingham\, United Kingdom
GEO:52.5002541;-1.8779884000000493
X-APPLE-STRUCTURED-LOCATION;VALUE=URI;X-ADDRESS=Wainwright Street\, Aston\,
  West Midlands\, B6 5TJ\, Birmingham\, United Kingdom;X-APPLE-RADIUS=100;X
 -TITLE=The Private Club:geo:52.5002541,-1.8779884000000493
END:VEVENT
END:VCALENDAR