BEGIN:VCALENDAR
VERSION:2.0
PRODID:-//wp-events-plugin.com//7.2.3.1//EN
BEGIN:VEVENT
UID:144@blog.ukxxxpass.xxx
DTSTART:20220726T200000Z
DTEND:20220726T233000Z
DTSTAMP:20220619T214655Z
URL:https://blog.ukxxxpass.xxx/events/26th-july-ruby-falls-pixie-peach-sex
 y-cleo/
SUMMARY:Party 26th July with Ruby Fall\, Pixie Peach and Sexy Cleo
DESCRIPTION:Bukkake and Gangbang party\, 26th July 8:00pm at the Private Cl
 ub\, Aston\, Birmingham. With feature models Ruby Fall\, Pixie Peach and S
 exy Cleo. Come and join in!
ATTACH;FMTTYPE=image/jpeg:https://i0.wp.com/blog.ukxxxpass.xxx/wp-content/
 uploads/2022/06/July26th_Birmingham-scaled.jpg?fit=1810%2C2560&ssl=1
LOCATION:The Private Club\, Wainwright Street\, Aston\, West Midlands\, B6 
 5TJ\, Birmingham\, United Kingdom
GEO:52.5002541;-1.8779884000000493
X-APPLE-STRUCTURED-LOCATION;VALUE=URI;X-ADDRESS=Wainwright Street\, Aston\,
  West Midlands\, B6 5TJ\, Birmingham\, United Kingdom;X-APPLE-RADIUS=100;X
 -TITLE=The Private Club:geo:52.5002541,-1.8779884000000493
END:VEVENT
END:VCALENDAR