BEGIN:VCALENDAR
VERSION:2.0
PRODID:-//wp-events-plugin.com//7.2.3.1//EN
BEGIN:VEVENT
UID:94@blog.ukxxxpass.xxx
DTSTART:20190807T200000Z
DTEND:20190807T223000Z
DTSTAMP:20190817T081305Z
URL:https://blog.ukxxxpass.xxx/events/7th-aug-pixiepeach-queenieb/
SUMMARY:Bukkake and gangbang 7th Aug with Pixie Peach and Queenie B
DESCRIPTION:Bukkake and gangbang 7th August at the Fantasy Den Walsall\, wi
 th models Pixie Peach and Queenie B (NEW). Come along and join in!
ATTACH;FMTTYPE=image/jpeg:https://i0.wp.com/blog.ukxxxpass.xxx/wp-content/
 uploads/2019/07/Aug7th_WALSALL.jpg?fit=905%2C1280&ssl=1
END:VEVENT
END:VCALENDAR