BEGIN:VCALENDAR
VERSION:2.0
PRODID:-//wp-events-plugin.com//7.2.3.1//EN
BEGIN:VEVENT
UID:200@blog.ukxxxpass.xxx
DTSTART:20241105T200000Z
DTEND:20241105T233000Z
DTSTAMP:20241011T162055Z
URL:https://blog.ukxxxpass.xxx/events/anal-halloween-walsall-5th-november/
SUMMARY:Anal Halloween Party
DESCRIPTION:Our annual Halloween Bukkake and Anal Gangbang party 5th Novemb
 er in Walsall\, featuring Tilly Jackson\, Tangerine Boo\, Bad Ass Daisy an
 d Aloralux. Come along and join in!
ATTACH;FMTTYPE=image/jpeg:https://i0.wp.com/blog.ukxxxpass.xxx/wp-content/
 uploads/2024/10/WALSALL_Nov_5th_Halloween-scaled.jpg?fit=1810%2C2560&ssl=1
LOCATION:Roxy's Den\, 33 Midland Road\, Walsall\, West Midlands\, WS1 3QQ\,
  United Kingdom
X-APPLE-STRUCTURED-LOCATION;VALUE=URI;X-ADDRESS=33 Midland Road\, Walsall\,
  West Midlands\, WS1 3QQ\, United Kingdom;X-APPLE-RADIUS=100;X-TITLE=Roxy'
 s Den:geo:0,0
END:VEVENT
END:VCALENDAR