BEGIN:VCALENDAR
VERSION:2.0
PRODID:-//wp-events-plugin.com//7.2.3.1//EN
BEGIN:VEVENT
UID:11@blog.ukxxxpass.xxx
DTSTART:20160412T120000Z
DTEND:20160412T223000Z
DTSTAMP:20160325T092359Z
URL:https://blog.ukxxxpass.xxx/events/april-12th-gangbang-grace-harper-pix
 iee-little/
SUMMARY:Gangbang April 12th Grace Harper and Pixiee Little
DESCRIPTION:April 12th bukkake and gangbang party with Pixiee Little and Gr
 ace Harper. Afternoon and Evening party sessions available!
ATTACH;FMTTYPE=image/jpeg:https://i0.wp.com/blog.ukxxxpass.xxx/wp-content/
 uploads/2016/03/April12th.jpg?fit=905%2C1280&ssl=1
LOCATION:The Private Club\, Wainwright Street\, Aston\, West Midlands\, B6 
 5TJ\, Birmingham\, United Kingdom
GEO:52.5002541;-1.8779884000000493
X-APPLE-STRUCTURED-LOCATION;VALUE=URI;X-ADDRESS=Wainwright Street\, Aston\,
  West Midlands\, B6 5TJ\, Birmingham\, United Kingdom;X-APPLE-RADIUS=100;X
 -TITLE=The Private Club:geo:52.5002541,-1.8779884000000493
END:VEVENT
END:VCALENDAR