BEGIN:VCALENDAR
VERSION:2.0
PRODID:-//wp-events-plugin.com//7.2.3.1//EN
BEGIN:VEVENT
UID:12@blog.ukxxxpass.xxx
DTSTART:20160426T200000Z
DTEND:20160426T223000Z
DTSTAMP:20160410T085639Z
URL:https://blog.ukxxxpass.xxx/events/april-26th-gangbang-summer-angel-sam
 antha/
SUMMARY:April 26th\, bukkake and gangbang party with Summer Angel and Saman
 tha
DESCRIPTION:April 26th\, bukkake and gangbang party with Summer Angel and S
 amantha
ATTACH;FMTTYPE=image/jpeg:https://i0.wp.com/blog.ukxxxpass.xxx/wp-content/
 uploads/2016/03/April26th_.jpg?fit=905%2C1280&ssl=1
END:VEVENT
END:VCALENDAR