BEGIN:VCALENDAR
VERSION:2.0
PRODID:-//wp-events-plugin.com//7.2.3.1//EN
BEGIN:VEVENT
UID:206@blog.ukxxxpass.xxx
DTSTART:20250408T193000Z
DTEND:20250408T223000Z
DTSTAMP:20250402T213409Z
URL:https://blog.ukxxxpass.xxx/events/april-bukkake-gangbang-sutton/
SUMMARY:April Bukkake and Gangbang\, Sutton
DESCRIPTION:Sutton Bukkake and Gangbang\, 7:30pm Tuesday April 8th 2025 wit
 h Gorgeous Chanella Wella\, Harley Lou and Belle Rose. Come and join us!
ATTACH;FMTTYPE=image/jpeg:https://i0.wp.com/blog.ukxxxpass.xxx/wp-content/
 uploads/2025/04/SUTTON_APR_8th-scaled.jpg?fit=1810%2C2560&ssl=1
LOCATION:House of Poitier\, 226 Carshalton Road\, Sutton\, Surrey\, SM1 4SA
 \, United Kingdom
X-APPLE-STRUCTURED-LOCATION;VALUE=URI;X-ADDRESS=226 Carshalton Road\, Sutto
 n\, Surrey\, SM1 4SA\, United Kingdom;X-APPLE-RADIUS=100;X-TITLE=House of 
 Poitier:geo:0,0
END:VEVENT
END:VCALENDAR