BEGIN:VCALENDAR
VERSION:2.0
PRODID:-//wp-events-plugin.com//7.2.3.1//EN
BEGIN:VEVENT
UID:22@blog.ukxxxpass.xxx
DTSTART:20160823T200000Z
DTEND:20160823T223000Z
DTSTAMP:20160811T193433Z
URL:https://blog.ukxxxpass.xxx/events/august-23rd-bukkake-and-gangbang-par
 ty-with-bree-branning-sasha-bee/
SUMMARY:August 23rd bukkake and gangbang party with Sasha Bee and Bree Bran
 ning
DESCRIPTION:August 23rd bukkake and gangbang party with Sasha Bee and Bree 
 Branning\, 8pm in Central Birmingham.
ATTACH;FMTTYPE=image/jpeg:https://i0.wp.com/blog.ukxxxpass.xxx/wp-content/
 uploads/2016/08/August23rd-1.jpg?fit=905%2C1280&ssl=1
END:VEVENT
END:VCALENDAR