BEGIN:VCALENDAR
VERSION:2.0
PRODID:-//wp-events-plugin.com//7.2.3.1//EN
BEGIN:VEVENT
UID:20@blog.ukxxxpass.xxx
DTSTART:20160824T200000Z
DTEND:20160824T223000Z
DTSTAMP:20160801T210128Z
URL:https://blog.ukxxxpass.xxx/events/august-24th-bukkake-gangbang-violet-
 pixiee-little/
SUMMARY:August 24th bukkake and gangbang party with Violet and Pixiee Littl
 e
DESCRIPTION:August 24th bukkake and gangbang party in Bristol with Pixiee L
 ittle and Violet
LOCATION:Top Floor Discreet apartments\, Bristol\, Bristol\, Avon\, BS15\, 
 Details to Follow\, United Kingdom
GEO:51.43989939999999;-2.5230238000000327
X-APPLE-STRUCTURED-LOCATION;VALUE=URI;X-ADDRESS=Bristol\, Bristol\, Avon\, 
 BS15\, Details to Follow\, United Kingdom;X-APPLE-RADIUS=100;X-TITLE=Top F
 loor Discreet apartments:geo:51.43989939999999,-2.5230238000000327
END:VEVENT
END:VCALENDAR