BEGIN:VCALENDAR
VERSION:2.0
PRODID:-//wp-events-plugin.com//7.2.3.1//EN
BEGIN:VEVENT
UID:168@blog.ukxxxpass.xxx
DTSTART:20230608T200000Z
DTEND:20230608T233000Z
DTSTAMP:20230601T174223Z
URL:https://blog.ukxxxpass.xxx/events/big-boob-bukkake-gangbang-8th-june-j
 ordan-pryce-classy-filth/
SUMMARY:BIG BOOB Bukkake and gangbang\, 8th June\, Walsall
DESCRIPTION:BIG BOOB Bukkake and gangbang 8th June\, Walsall with sexy MILF
  Classy Filth and Eurobabe Jordan Pryce. Come and join in!
ATTACH;FMTTYPE=image/jpeg:https://i0.wp.com/blog.ukxxxpass.xxx/wp-content/
 uploads/2023/05/June8th_Walsall-scaled.jpg?fit=1810%2C2560&ssl=1
LOCATION:Roxy's Den\, 33 Midland Road\, Walsall\, West Midlands\, WS1 3QQ\,
  United Kingdom
X-APPLE-STRUCTURED-LOCATION;VALUE=URI;X-ADDRESS=33 Midland Road\, Walsall\,
  West Midlands\, WS1 3QQ\, United Kingdom;X-APPLE-RADIUS=100;X-TITLE=Roxy'
 s Den:geo:0,0
END:VEVENT
END:VCALENDAR