BEGIN:VCALENDAR
VERSION:2.0
PRODID:-//wp-events-plugin.com//7.2.3.1//EN
BEGIN:VEVENT
UID:196@blog.ukxxxpass.xxx
DTSTART:20240820T193000Z
DTEND:20240820T223000Z
DTSTAMP:20240801T215044Z
URL:https://blog.ukxxxpass.xxx/events/bikini-heels-gangbang-bristol-20aug2
 4/
SUMMARY:Bukkake and Gangbang 20th August Bristol
DESCRIPTION:Summer bukkake and gangbang party\, 20th August in Bristol with
  Latin blonde Luiza and Sophie. Come and join us!
ATTACH;FMTTYPE=image/jpeg:https://i0.wp.com/blog.ukxxxpass.xxx/wp-content/
 uploads/2024/07/BRISTOL_AUGUST_20th-scaled.jpg?fit=1810%2C2560&ssl=1
LOCATION:Dare2Swing\, 1 Alfred Street\, St. Philips\, Bristol\, BS2 ORF\, U
 nited Kingdom
X-APPLE-STRUCTURED-LOCATION;VALUE=URI;X-ADDRESS=1 Alfred Street\, St. Phili
 ps\, Bristol\, BS2 ORF\, United Kingdom;X-APPLE-RADIUS=100;X-TITLE=Dare2Sw
 ing:geo:0,0
END:VEVENT
END:VCALENDAR