BEGIN:VCALENDAR
VERSION:2.0
PRODID:-//wp-events-plugin.com//7.2.3.1//EN
BEGIN:VEVENT
UID:162@blog.ukxxxpass.xxx
DTSTART:20230405T193000Z
DTEND:20230405T223000Z
DTSTAMP:20230319T202745Z
URL:https://blog.ukxxxpass.xxx/events/bristol-5th-april-niki-april-velvet/
SUMMARY:Party 5th April with NEW model April Velvet and Niki
DESCRIPTION:5th April\, 7:30pm at Dare2 in Bristol. Bukkake and gangbang wi
 th NEW model April Velvet and ThatBlondNiki. Come along and join in!!!
ATTACH;FMTTYPE=image/jpeg:https://i0.wp.com/blog.ukxxxpass.xxx/wp-content/
 uploads/2023/03/APR5th_BRISTOL-1.jpg?fit=1275%2C1875&ssl=1
LOCATION:Dare2Swing\, 1 Alfred Street\, St. Philips\, Bristol\, BS2 ORF\, U
 nited Kingdom
X-APPLE-STRUCTURED-LOCATION;VALUE=URI;X-ADDRESS=1 Alfred Street\, St. Phili
 ps\, Bristol\, BS2 ORF\, United Kingdom;X-APPLE-RADIUS=100;X-TITLE=Dare2Sw
 ing:geo:0,0
END:VEVENT
END:VCALENDAR