BEGIN:VCALENDAR
VERSION:2.0
PRODID:-//wp-events-plugin.com//7.2.3.1//EN
BEGIN:VEVENT
UID:37@blog.ukxxxpass.xxx
DTSTART:20170228T200000Z
DTEND:20170228T223000Z
DTSTAMP:20170202T212050Z
URL:https://blog.ukxxxpass.xxx/events/bristol-gangbang-28th-february-isabe
 lla-bangs-jamie-rae/
SUMMARY:Bristol gangbang party 28th February with Isabella Bangs and Jamie 
 Rae
DESCRIPTION:Bristol Gangbang and bukkake party\, 28th February 2017 with go
 rgeous Isabella Bangs and brand new porn starlet Jamie Rae - Splatbukkake
ATTACH;FMTTYPE=image/jpeg:https://i0.wp.com/blog.ukxxxpass.xxx/wp-content/
 uploads/2017/02/February28th.jpg?fit=905%2C1280&ssl=1
LOCATION:Top Floor Studio\, Moravian Road\, Kingswood\, Bristol\, BS15\, Br
 istol\, United Kingdom
GEO:51.4602494;-2.5074968999999783
X-APPLE-STRUCTURED-LOCATION;VALUE=URI;X-ADDRESS=Moravian Road\, Kingswood\,
  Bristol\, BS15\, Bristol\, United Kingdom;X-APPLE-RADIUS=100;X-TITLE=Top 
 Floor Studio:geo:51.4602494,-2.5074968999999783
END:VEVENT
END:VCALENDAR