BEGIN:VCALENDAR
VERSION:2.0
PRODID:-//wp-events-plugin.com//7.2.3.1//EN
BEGIN:VEVENT
UID:188@blog.ukxxxpass.xxx
DTSTART:20240508T193000Z
DTEND:20240508T223000Z
DTSTAMP:20240428T153025Z
URL:https://blog.ukxxxpass.xxx/events/bristol-gangbang-8th-may/
SUMMARY:Bukkake and Gangbang Bristol 8th May
DESCRIPTION:Bristol bukkake and gangbang. Wednesday 8th May\, 7:30pm with B
 razilian babe SuperVixxen Luiza and website favourite Sunflower Doll. Come
  and join in!
ATTACH;FMTTYPE=image/jpeg:https://i0.wp.com/blog.ukxxxpass.xxx/wp-content/
 uploads/2024/03/BRISTOL_MAY_8th-1-scaled.jpg?fit=1741%2C2560&ssl=1
LOCATION:Dare2Swing\, 1 Alfred Street\, St. Philips\, Bristol\, BS2 ORF\, U
 nited Kingdom
X-APPLE-STRUCTURED-LOCATION;VALUE=URI;X-ADDRESS=1 Alfred Street\, St. Phili
 ps\, Bristol\, BS2 ORF\, United Kingdom;X-APPLE-RADIUS=100;X-TITLE=Dare2Sw
 ing:geo:0,0
END:VEVENT
END:VCALENDAR