BEGIN:VCALENDAR
VERSION:2.0
PRODID:-//wp-events-plugin.com//7.2.3.1//EN
BEGIN:VEVENT
UID:34@blog.ukxxxpass.xxx
DTSTART:20170131T200000Z
DTEND:20170131T223000Z
DTSTAMP:20170101T230654Z
URL:https://blog.ukxxxpass.xxx/events/bristol-gangbang-bethany-richards-un
 a-brooklyn/
SUMMARY:Bristol gangbang party 31st January with Bethany Richards and Una B
 rooklyn
DESCRIPTION:Bristol Gangbang and bukkake party\, 31st January 2017 with por
 nstar Bethany Richards and gorgeous TV chat babe Una Brooklyn - Splatbukka
 ke
ATTACH;FMTTYPE=image/jpeg:https://i0.wp.com/blog.ukxxxpass.xxx/wp-content/
 uploads/2017/01/January31st.jpg?fit=905%2C1280&ssl=1
LOCATION:Top Floor Studio\, Moravian Road\, Kingswood\, Bristol\, BS15\, Br
 istol\, United Kingdom
GEO:51.4602494;-2.5074968999999783
X-APPLE-STRUCTURED-LOCATION;VALUE=URI;X-ADDRESS=Moravian Road\, Kingswood\,
  Bristol\, BS15\, Bristol\, United Kingdom;X-APPLE-RADIUS=100;X-TITLE=Top 
 Floor Studio:geo:51.4602494,-2.5074968999999783
END:VEVENT
END:VCALENDAR