BEGIN:VCALENDAR
VERSION:2.0
PRODID:-//wp-events-plugin.com//7.2.3.1//EN
BEGIN:VEVENT
UID:41@blog.ukxxxpass.xxx
DTSTART:20170427T200000Z
DTEND:20170427T223000Z
DTSTAMP:20170331T224425Z
URL:https://blog.ukxxxpass.xxx/events/bristol-gangbang-party-27th-april-gr
 ace-harper-gina-jameson/
SUMMARY:Bristol gangbang party 27th April with Grace Harper and Gina Jameso
 n
DESCRIPTION:Bukkake and Gangbang sex party shoot featuring gorgeous pornsta
 r babes Grace Harper and Gina Lynn Jameson. YOU can get involved!!!
ATTACH;FMTTYPE=image/jpeg:https://i0.wp.com/blog.ukxxxpass.xxx/wp-content/
 uploads/2017/03/April27th.jpg?fit=905%2C1280&ssl=1
LOCATION:Top Floor Studio\, Moravian Road\, Kingswood\, Bristol\, BS15\, Br
 istol\, United Kingdom
GEO:51.4602494;-2.5074968999999783
X-APPLE-STRUCTURED-LOCATION;VALUE=URI;X-ADDRESS=Moravian Road\, Kingswood\,
  Bristol\, BS15\, Bristol\, United Kingdom;X-APPLE-RADIUS=100;X-TITLE=Top 
 Floor Studio:geo:51.4602494,-2.5074968999999783
END:VEVENT
END:VCALENDAR