BEGIN:VCALENDAR
VERSION:2.0
PRODID:-//wp-events-plugin.com//7.2.3.1//EN
BEGIN:VEVENT
UID:32@blog.ukxxxpass.xxx
DTSTART:20161214T200000Z
DTEND:20161214T223000Z
DTSTAMP:20161203T223339Z
URL:https://blog.ukxxxpass.xxx/events/bristol-xmas-gangbang-tyla-moore-gin
 a-jameson-una/
SUMMARY:Bristol Xmas gangbang party with Tyla Moore\, Gina Jameson and Una
DESCRIPTION:Bristol Xmas bukkake and gangbang party. Wednesday 14th Decembe
 r with porn stars  Tyla Moore\, Gina Lynn Jameson and sexy new babe Una - 
 Splatbukkake
ATTACH;FMTTYPE=image/jpeg:https://i0.wp.com/blog.ukxxxpass.xxx/wp-content/
 uploads/2016/12/Xmas_Bristol.jpg?fit=905%2C1280&ssl=1
LOCATION:Top Floor Studio\, Moravian Road\, Kingswood\, Bristol\, BS15\, Br
 istol\, United Kingdom
GEO:51.4602494;-2.5074968999999783
X-APPLE-STRUCTURED-LOCATION;VALUE=URI;X-ADDRESS=Moravian Road\, Kingswood\,
  Bristol\, BS15\, Bristol\, United Kingdom;X-APPLE-RADIUS=100;X-TITLE=Top 
 Floor Studio:geo:51.4602494,-2.5074968999999783
END:VEVENT
END:VCALENDAR