BEGIN:VCALENDAR
VERSION:2.0
PRODID:-//wp-events-plugin.com//7.2.3.1//EN
BEGIN:VEVENT
UID:202@blog.ukxxxpass.xxx
DTSTART:20241211T193000Z
DTEND:20241211T223000Z
DTSTAMP:20241111T192143Z
URL:https://blog.ukxxxpass.xxx/events/bristol-xmas-party-2024/
SUMMARY:Xmas party Bristol 11th December 2024
DESCRIPTION:Bristol Xmas Bukkake and Gangbang\, 7:30pm Wednesday 11th Decem
 ber with beautiful Tasha Jobbins\, Tattoed Sammie and Racy Lacey. Come and
  join us!
ATTACH;FMTTYPE=image/jpeg:https://i0.wp.com/blog.ukxxxpass.xxx/wp-content/
 uploads/2024/11/BristolChristmasParty-scaled.jpg?fit=1810%2C2560&ssl=1
LOCATION:Dare2Swing\, 1 Alfred Street\, St. Philips\, Bristol\, BS2 ORF\, U
 nited Kingdom
X-APPLE-STRUCTURED-LOCATION;VALUE=URI;X-ADDRESS=1 Alfred Street\, St. Phili
 ps\, Bristol\, BS2 ORF\, United Kingdom;X-APPLE-RADIUS=100;X-TITLE=Dare2Sw
 ing:geo:0,0
END:VEVENT
END:VCALENDAR