BEGIN:VCALENDAR
VERSION:2.0
PRODID:-//wp-events-plugin.com//7.2.3.1//EN
BEGIN:VEVENT
UID:156@blog.ukxxxpass.xxx
DTSTART:20221206T193000Z
DTEND:20221206T223000Z
DTSTAMP:20221121T091412Z
URL:https://blog.ukxxxpass.xxx/events/bristol-xmas-party-6th-december/
SUMMARY:Bristol Xmas Party Tuesday 6th December
DESCRIPTION:6th December 2022\, 7:30pm at Dare2 in Bristol. Christmas Europ
 ussy bukkake and gangbang with NEW model Lisa Le Fevrex\, Kimberly X and M
 elody Pleasure. Come along and join in!!!
ATTACH;FMTTYPE=image/jpeg:https://i0.wp.com/blog.ukxxxpass.xxx/wp-content/
 uploads/2022/11/BristolChristmasParty-scaled.jpg?fit=1810%2C2560&ssl=1
LOCATION:Dare2Swing\, 1 Alfred Street\, St. Philips\, Bristol\, BS2 ORF\, U
 nited Kingdom
X-APPLE-STRUCTURED-LOCATION;VALUE=URI;X-ADDRESS=1 Alfred Street\, St. Phili
 ps\, Bristol\, BS2 ORF\, United Kingdom;X-APPLE-RADIUS=100;X-TITLE=Dare2Sw
 ing:geo:0,0
END:VEVENT
END:VCALENDAR