BEGIN:VCALENDAR
VERSION:2.0
PRODID:-//wp-events-plugin.com//7.2.3.1//EN
BEGIN:VEVENT
UID:160@blog.ukxxxpass.xxx
DTSTART:20230323T200000Z
DTEND:20230323T233000Z
DTSTAMP:20230312T202001Z
URL:https://blog.ukxxxpass.xxx/events/bukkake-and-gangbang-23rd-march-wals
 all/
SUMMARY:Bukkake and gangbang\, 23rd March\, Walsall
DESCRIPTION:Bukkake and gangbang 23rd March\, Walsall with lovely NEW babe 
 PussyKat and sexy MILF Classy Filth. Come and join in!
ATTACH;FMTTYPE=image/jpeg:https://i0.wp.com/blog.ukxxxpass.xxx/wp-content/
 uploads/2023/03/March23rd_Walsall-scaled.jpg?fit=1810%2C2560&ssl=1
LOCATION:Roxy's Den\, 33 Midland Road\, Walsall\, West Midlands\, WS1 3QQ\,
  United Kingdom
X-APPLE-STRUCTURED-LOCATION;VALUE=URI;X-ADDRESS=33 Midland Road\, Walsall\,
  West Midlands\, WS1 3QQ\, United Kingdom;X-APPLE-RADIUS=100;X-TITLE=Roxy'
 s Den:geo:0,0
END:VEVENT
END:VCALENDAR