BEGIN:VCALENDAR
VERSION:2.0
PRODID:-//wp-events-plugin.com//7.2.3.1//EN
BEGIN:VEVENT
UID:201@blog.ukxxxpass.xxx
DTSTART:20241113T193000Z
DTEND:20241113T223000Z
DTSTAMP:20241031T172413Z
URL:https://blog.ukxxxpass.xxx/events/bukkake-gangbang-13th-november-brist
 ol/
SUMMARY:Bukkake and Gangbang 13th November Bristol
DESCRIPTION:Bukkake and Gangbang\, 7:30pm Wednesday 13th November in Bristo
 l with pornstar babes Sunflower Doll and Gigi Rouge. Come and join us!
ATTACH;FMTTYPE=image/jpeg:https://i0.wp.com/blog.ukxxxpass.xxx/wp-content/
 uploads/2024/10/BRISTOL_NOV_13th-scaled.jpg?fit=1741%2C2560&ssl=1
LOCATION:Dare2Swing\, 1 Alfred Street\, St. Philips\, Bristol\, BS2 ORF\, U
 nited Kingdom
X-APPLE-STRUCTURED-LOCATION;VALUE=URI;X-ADDRESS=1 Alfred Street\, St. Phili
 ps\, Bristol\, BS2 ORF\, United Kingdom;X-APPLE-RADIUS=100;X-TITLE=Dare2Sw
 ing:geo:0,0
END:VEVENT
END:VCALENDAR