BEGIN:VCALENDAR
VERSION:2.0
PRODID:-//wp-events-plugin.com//7.2.3.1//EN
BEGIN:VEVENT
UID:104@blog.ukxxxpass.xxx
DTSTART:20200116T200000Z
DTEND:20200116T230000Z
DTSTAMP:20191230T122920Z
URL:https://blog.ukxxxpass.xxx/events/bukkake-gangbang-16th-jan-candice-ba
 nks-olivia-kinks/
SUMMARY:Bukkake and Gangbang 16th Jan with Candice Banks and Olivia Kinks
DESCRIPTION:Bukkake and gangbang party\, 16th January 8pm Birmingham at The
  Private Club. Featuring gorgeous new models Candice Banks and Olivia Kink
 s. Come along and join in!
ATTACH;FMTTYPE=image/jpeg:https://i0.wp.com/blog.ukxxxpass.xxx/wp-content/
 uploads/2019/12/Jan16th_BHAM-scaled.jpg?fit=1810%2C2560&ssl=1
LOCATION:The Private Club\, Wainwright Street\, Aston\, West Midlands\, B6 
 5TJ\, Birmingham\, United Kingdom
GEO:52.5002541;-1.8779884000000493
X-APPLE-STRUCTURED-LOCATION;VALUE=URI;X-ADDRESS=Wainwright Street\, Aston\,
  West Midlands\, B6 5TJ\, Birmingham\, United Kingdom;X-APPLE-RADIUS=100;X
 -TITLE=The Private Club:geo:52.5002541,-1.8779884000000493
END:VEVENT
END:VCALENDAR