BEGIN:VCALENDAR
VERSION:2.0
PRODID:-//wp-events-plugin.com//7.2.3.1//EN
BEGIN:VEVENT
UID:105@blog.ukxxxpass.xxx
DTSTART:20200122T080000Z
DTEND:20200122T224500Z
DTSTAMP:20191230T190152Z
URL:https://blog.ukxxxpass.xxx/events/bukkake-gangbang-22nd-jan-piggymouth
 -kitten/
SUMMARY:Bukkake and Gangbang 22nd January with PiggyMouth and Kitten
DESCRIPTION:Bukkake and Gangbang shoot party featuring stunning Piggymouth 
 and NEW model Kitten. Come along and join in!
ATTACH;FMTTYPE=image/jpeg:https://i0.wp.com/blog.ukxxxpass.xxx/wp-content/
 uploads/2019/12/JAN22nd_BRISTOL.jpg?fit=1275%2C1875&ssl=1
LOCATION:Dare2Swing\, 1 Alfred Street\, St. Philips\, Bristol\, BS2 ORF\, U
 nited Kingdom
X-APPLE-STRUCTURED-LOCATION;VALUE=URI;X-ADDRESS=1 Alfred Street\, St. Phili
 ps\, Bristol\, BS2 ORF\, United Kingdom;X-APPLE-RADIUS=100;X-TITLE=Dare2Sw
 ing:geo:0,0
END:VEVENT
END:VCALENDAR