BEGIN:VCALENDAR
VERSION:2.0
PRODID:-//wp-events-plugin.com//7.2.3.1//EN
BEGIN:VEVENT
UID:191@blog.ukxxxpass.xxx
DTSTART:20240603T200000Z
DTEND:20240603T233000Z
DTSTAMP:20240513T204241Z
URL:https://blog.ukxxxpass.xxx/events/bukkake-gangbang-3rd-june-walsall/
SUMMARY:Bukkake and Gangbang\, 3rd June Walsall
DESCRIPTION:Bukkake and Gangbang party 3rd June in Walsall ft. Sunflower Do
 ll and Tamsin Riley. Come along and join in!
ATTACH;FMTTYPE=image/jpeg:https://i0.wp.com/blog.ukxxxpass.xxx/wp-content/
 uploads/2024/05/WALSALL_JUNE_3rd-scaled.jpg?fit=1810%2C2560&ssl=1
LOCATION:Roxy's Den\, 33 Midland Road\, Walsall\, West Midlands\, WS1 3QQ\,
  United Kingdom
X-APPLE-STRUCTURED-LOCATION;VALUE=URI;X-ADDRESS=33 Midland Road\, Walsall\,
  West Midlands\, WS1 3QQ\, United Kingdom;X-APPLE-RADIUS=100;X-TITLE=Roxy'
 s Den:geo:0,0
END:VEVENT
END:VCALENDAR