BEGIN:VCALENDAR
VERSION:2.0
PRODID:-//wp-events-plugin.com//7.2.3.1//EN
BEGIN:VEVENT
UID:98@blog.ukxxxpass.xxx
DTSTART:20191003T200000Z
DTEND:20191003T230000Z
DTSTAMP:20190909T204047Z
URL:https://blog.ukxxxpass.xxx/events/bukkake-gangbang-3rd-october-lexi-ry
 der-loula-lou/
SUMMARY:Bukkake and Gangbang 3rd October with Lexi Ryder and Loula Lou
DESCRIPTION:Bukkake and gangbang party\, 3rd October 8pm Birmingham at The 
 Private Club. Featuring blonde babes Lexi Ryder and Loula Lou. Come along 
 and join in!
ATTACH;FMTTYPE=image/jpeg:https://i0.wp.com/blog.ukxxxpass.xxx/wp-content/
 uploads/2019/09/Oct3rd_BHAM.jpg?fit=905%2C1280&ssl=1
LOCATION:The Private Club\, Wainwright Street\, Aston\, West Midlands\, B6 
 5TJ\, Birmingham\, United Kingdom
GEO:52.5002541;-1.8779884000000493
X-APPLE-STRUCTURED-LOCATION;VALUE=URI;X-ADDRESS=Wainwright Street\, Aston\,
  West Midlands\, B6 5TJ\, Birmingham\, United Kingdom;X-APPLE-RADIUS=100;X
 -TITLE=The Private Club:geo:52.5002541,-1.8779884000000493
END:VEVENT
END:VCALENDAR