BEGIN:VCALENDAR
VERSION:2.0
PRODID:-//wp-events-plugin.com//7.2.3.1//EN
BEGIN:VEVENT
UID:137@blog.ukxxxpass.xxx
DTSTART:20220504T200000Z
DTEND:20220504T233000Z
DTSTAMP:20220421T133122Z
URL:https://blog.ukxxxpass.xxx/events/bukkake-gangbang-4th-may-gigirouge-a
 urorafrost/
SUMMARY:Bukkake and Gangbang Party 4th May with Gigi Rouge and Aurora Frost
DESCRIPTION:Bukkake and Gangbang party\, 4th May 8pm at Roxy Den Walsall wi
 th GIgi Rouge and Aurora Frost. Come and join in!
ATTACH;FMTTYPE=image/jpeg:https://i0.wp.com/blog.ukxxxpass.xxx/wp-content/
 uploads/2022/04/May4th_Walsall-scaled.jpg?fit=1810%2C2560&ssl=1
LOCATION:Roxy's Den\, 33 Midland Road\, Walsall\, West Midlands\, WS1 3QQ\,
  United Kingdom
X-APPLE-STRUCTURED-LOCATION;VALUE=URI;X-ADDRESS=33 Midland Road\, Walsall\,
  West Midlands\, WS1 3QQ\, United Kingdom;X-APPLE-RADIUS=100;X-TITLE=Roxy'
 s Den:geo:0,0
END:VEVENT
END:VCALENDAR