BEGIN:VCALENDAR
VERSION:2.0
PRODID:-//wp-events-plugin.com//7.2.3.1//EN
BEGIN:VEVENT
UID:177@blog.ukxxxpass.xxx
DTSTART:20231004T193000Z
DTEND:20231004T223000Z
DTSTAMP:20230927T193152Z
URL:https://blog.ukxxxpass.xxx/events/bukkake-gangbang-4th-oct-bristol/
SUMMARY:Bukkake and Gangbang 4th Oct Bristol (Cancelled\, sorry guys)
DESCRIPTION:Bristol 4th October Bukkake and Gangbang with gorgeous duo Sama
 ntha and Jasmine Love. Come along and join in!!!
ATTACH;FMTTYPE=image/jpeg:https://i0.wp.com/blog.ukxxxpass.xxx/wp-content/
 uploads/2023/09/Oct4th_BRISTOL.jpg?fit=1275%2C1875&ssl=1
LOCATION:Dare2Swing\, 1 Alfred Street\, St. Philips\, Bristol\, BS2 ORF\, U
 nited Kingdom
X-APPLE-STRUCTURED-LOCATION;VALUE=URI;X-ADDRESS=1 Alfred Street\, St. Phili
 ps\, Bristol\, BS2 ORF\, United Kingdom;X-APPLE-RADIUS=100;X-TITLE=Dare2Sw
 ing:geo:0,0
END:VEVENT
END:VCALENDAR