BEGIN:VCALENDAR
VERSION:2.0
PRODID:-//wp-events-plugin.com//7.2.3.1//EN
BEGIN:VEVENT
UID:96@blog.ukxxxpass.xxx
DTSTART:20190904T200000Z
DTEND:20190904T223000Z
DTSTAMP:20190817T081132Z
URL:https://blog.ukxxxpass.xxx/events/bukkake-gangbang-4th-sept-talula-tho
 mas-isabel-dean/
SUMMARY:Bukkake and gangbang 4th Sept with Talula Thomas and Isabel Dean
DESCRIPTION:Bukkake and gangbang 4th September at the Fantasy Den Walsall\,
  with models Isabel Dean and Talula Thomas. Come along and join in!
ATTACH;FMTTYPE=image/jpeg:https://i0.wp.com/blog.ukxxxpass.xxx/wp-content/
 uploads/2019/08/Sept4th_WALSALL.jpg?fit=905%2C1280&ssl=1
END:VEVENT
END:VCALENDAR