BEGIN:VCALENDAR
VERSION:2.0
PRODID:-//wp-events-plugin.com//7.2.3.1//EN
BEGIN:VEVENT
UID:169@blog.ukxxxpass.xxx
DTSTART:20230706T200000Z
DTEND:20230706T233000Z
DTSTAMP:20230614T183710Z
URL:https://blog.ukxxxpass.xxx/events/bukkake-gangbang-6th-july-walsall/
SUMMARY:Bukkake and gangbang\, 6th July\, Walsall
DESCRIPTION:Bukkake and gangbang party 6th July\, 8pm in Walsall with sexy 
 babes Mandy Foxxx and Cheri Pi. Come along and join in!
ATTACH;FMTTYPE=image/jpeg:https://i0.wp.com/blog.ukxxxpass.xxx/wp-content/
 uploads/2023/06/July6th_Walsall-1-scaled.jpg?fit=1810%2C2560&ssl=1
LOCATION:Roxy's Den\, 33 Midland Road\, Walsall\, West Midlands\, WS1 3QQ\,
  United Kingdom
X-APPLE-STRUCTURED-LOCATION;VALUE=URI;X-ADDRESS=33 Midland Road\, Walsall\,
  West Midlands\, WS1 3QQ\, United Kingdom;X-APPLE-RADIUS=100;X-TITLE=Roxy'
 s Den:geo:0,0
END:VEVENT
END:VCALENDAR