BEGIN:VCALENDAR
VERSION:2.0
PRODID:-//wp-events-plugin.com//7.2.3.1//EN
BEGIN:VEVENT
UID:134@blog.ukxxxpass.xxx
DTSTART:20220407T200000Z
DTEND:20220407T233000Z
DTSTAMP:20220320T212028Z
URL:https://blog.ukxxxpass.xxx/events/bukkake-gangbang-7th-april-tatty-tyl
 er-classy-filth/
SUMMARY:Bukkake and Gangbang Party 7th April with Tatty Tyler and Classy Fi
 lth
DESCRIPTION:Bukkake and Gangbang party\, 7th April 8pm at Roxy Den Walsall 
 with Tatty Tyler and Classy Filth. Come and join in!
ATTACH;FMTTYPE=image/jpeg:https://i0.wp.com/blog.ukxxxpass.xxx/wp-content/
 uploads/2022/03/APR7th_Walsall-scaled.jpg?fit=1810%2C2560&ssl=1
LOCATION:Roxy's Den\, 33 Midland Road\, Walsall\, West Midlands\, WS1 3QQ\,
  United Kingdom
X-APPLE-STRUCTURED-LOCATION;VALUE=URI;X-ADDRESS=33 Midland Road\, Walsall\,
  West Midlands\, WS1 3QQ\, United Kingdom;X-APPLE-RADIUS=100;X-TITLE=Roxy'
 s Den:geo:0,0
END:VEVENT
END:VCALENDAR