BEGIN:VCALENDAR
VERSION:2.0
PRODID:-//wp-events-plugin.com//7.2.3.1//EN
BEGIN:VEVENT
UID:39@blog.ukxxxpass.xxx
DTSTART:20170316T200000Z
DTEND:20170316T223000Z
DTSTAMP:20170310T230611Z
URL:https://blog.ukxxxpass.xxx/events/bukkake-gangbang-adreena-winters-lau
 ra-louise/
SUMMARY:Bukkake and gangbang party with Adreena Winters and Laura Louise
DESCRIPTION:March 16th bukkake and gangbang party in Birmingham featuring p
 ornstar goddess Adreena Winters and big-titted newcomer Laura Louise- Spla
 tbukkake
ATTACH;FMTTYPE=image/jpeg:https://i0.wp.com/blog.ukxxxpass.xxx/wp-content/
 uploads/2017/02/March16th.jpg?fit=905%2C1280&ssl=1
LOCATION:The Private Club\, Wainwright Street\, Aston\, West Midlands\, B6 
 5TJ\, Birmingham\, United Kingdom
GEO:52.5002541;-1.8779884000000493
X-APPLE-STRUCTURED-LOCATION;VALUE=URI;X-ADDRESS=Wainwright Street\, Aston\,
  West Midlands\, B6 5TJ\, Birmingham\, United Kingdom;X-APPLE-RADIUS=100;X
 -TITLE=The Private Club:geo:52.5002541,-1.8779884000000493
END:VEVENT
END:VCALENDAR