BEGIN:VCALENDAR
VERSION:2.0
PRODID:-//wp-events-plugin.com//7.2.3.1//EN
BEGIN:VEVENT
UID:62@blog.ukxxxpass.xxx
DTSTART:20180227T200000Z
DTEND:20180227T223000Z
DTSTAMP:20180109T213945Z
URL:https://blog.ukxxxpass.xxx/events/bukkake-gangbang-april-paisley-cherr
 y-english/
SUMMARY:Bukkake and gangbang party with Cherry English and April Paisley
DESCRIPTION:Tuesday 27th February 8pm bukkake and gangbang party at the Pri
 vate Club\, Aston\, Birmingham. Featuring  stunning pornstar April Paisley
  and sexy new model Cherry English. 
ATTACH;FMTTYPE=image/jpeg:https://i0.wp.com/blog.ukxxxpass.xxx/wp-content/
 uploads/2018/01/Feb27th_BHAM.jpg?fit=905%2C1280&ssl=1
LOCATION:The Private Club\, Wainwright Street\, Aston\, West Midlands\, B6 
 5TJ\, Birmingham\, United Kingdom
GEO:52.5002541;-1.8779884000000493
X-APPLE-STRUCTURED-LOCATION;VALUE=URI;X-ADDRESS=Wainwright Street\, Aston\,
  West Midlands\, B6 5TJ\, Birmingham\, United Kingdom;X-APPLE-RADIUS=100;X
 -TITLE=The Private Club:geo:52.5002541,-1.8779884000000493
END:VEVENT
END:VCALENDAR