BEGIN:VCALENDAR
VERSION:2.0
PRODID:-//wp-events-plugin.com//7.2.3.1//EN
BEGIN:VEVENT
UID:44@blog.ukxxxpass.xxx
DTSTART:20170606T200000Z
DTEND:20170606T223000Z
DTSTAMP:20170528T160845Z
URL:https://blog.ukxxxpass.xxx/events/bukkake-gangbang-isabella-bangs-clas
 sy-filth/
SUMMARY:Bukkake and gangbang party with Isabella Bangs and Classy Filth
DESCRIPTION:Tuesday June 6th 2017. Slinky young fuck doll 'Isabella Bangs' 
 and sexy 'Classy Filth' join us for a Bukkake and gangbang party in Birmin
 gham. You're invited!!!
ATTACH;FMTTYPE=image/jpeg:https://i0.wp.com/blog.ukxxxpass.xxx/wp-content/
 uploads/2017/05/June6th-1.jpg?fit=905%2C1280&ssl=1
LOCATION:The Private Club\, Wainwright Street\, Aston\, West Midlands\, B6 
 5TJ\, Birmingham\, United Kingdom
GEO:52.5002541;-1.8779884000000493
X-APPLE-STRUCTURED-LOCATION;VALUE=URI;X-ADDRESS=Wainwright Street\, Aston\,
  West Midlands\, B6 5TJ\, Birmingham\, United Kingdom;X-APPLE-RADIUS=100;X
 -TITLE=The Private Club:geo:52.5002541,-1.8779884000000493
END:VEVENT
END:VCALENDAR