BEGIN:VCALENDAR
VERSION:2.0
PRODID:-//wp-events-plugin.com//7.2.3.1//EN
BEGIN:VEVENT
UID:143@blog.ukxxxpass.xxx
DTSTART:20220707T200000Z
DTEND:20220707T233000Z
DTSTAMP:20220624T075706Z
URL:https://blog.ukxxxpass.xxx/events/bukkake-gangbang-july-7th/
SUMMARY:Bukkake and Gangbang July 7th 2022
DESCRIPTION:Bukkake and Gangbang July 7th 2022 with Mandy Foxxx and Xteencu
 mslutX. If you want to come along\, feel free!!
ATTACH;FMTTYPE=image/jpeg:https://i0.wp.com/blog.ukxxxpass.xxx/wp-content/
 uploads/2022/06/July7th_Walsall-1-scaled.jpg?fit=1810%2C2560&ssl=1
LOCATION:Roxy's Den\, 33 Midland Road\, Walsall\, West Midlands\, WS1 3QQ\,
  United Kingdom
X-APPLE-STRUCTURED-LOCATION;VALUE=URI;X-ADDRESS=33 Midland Road\, Walsall\,
  West Midlands\, WS1 3QQ\, United Kingdom;X-APPLE-RADIUS=100;X-TITLE=Roxy'
 s Den:geo:0,0
END:VEVENT
END:VCALENDAR