BEGIN:VCALENDAR
VERSION:2.0
PRODID:-//wp-events-plugin.com//7.2.3.1//EN
BEGIN:VEVENT
UID:51@blog.ukxxxpass.xxx
DTSTART:20170830T200000Z
DTEND:20170830T223000Z
DTSTAMP:20170822T184758Z
URL:https://blog.ukxxxpass.xxx/events/bukkake-gangbang-party-ella-bella-se
 xycleo/
SUMMARY:Bukkake and gangbang party with Ella Bella and SexyCleo
DESCRIPTION:Wednesday August 30th 2017. Gangbang and bukkake party. 8pm Eve
 ning party will be 'Rock Chick' themed with Ella Bella and SexyCleo.  You'
 re invited!!!
ATTACH;FMTTYPE=image/jpeg:https://i0.wp.com/blog.ukxxxpass.xxx/wp-content/
 uploads/2017/08/Aug30th_eve.jpg?fit=905%2C1280&ssl=1
LOCATION:The Private Club\, Wainwright Street\, Aston\, West Midlands\, B6 
 5TJ\, Birmingham\, United Kingdom
GEO:52.5002541;-1.8779884000000493
X-APPLE-STRUCTURED-LOCATION;VALUE=URI;X-ADDRESS=Wainwright Street\, Aston\,
  West Midlands\, B6 5TJ\, Birmingham\, United Kingdom;X-APPLE-RADIUS=100;X
 -TITLE=The Private Club:geo:52.5002541,-1.8779884000000493
END:VEVENT
END:VCALENDAR