BEGIN:VCALENDAR
VERSION:2.0
PRODID:-//wp-events-plugin.com//7.2.3.1//EN
BEGIN:VEVENT
UID:35@blog.ukxxxpass.xxx
DTSTART:20170216T200000Z
DTEND:20170216T223000Z
DTSTAMP:20170127T234945Z
URL:https://blog.ukxxxpass.xxx/events/bukkake-gangbang-party-linda-lush-ta
 ra-spades/
SUMMARY:Euro Bukkake and gangbang party with Linda Lush and Tara Spades
DESCRIPTION:February 16th 2017. (Change to the original line-up) Bukkake an
 d gangbang party now featuring cum-junkie Dutch pornstar Linda Lush and th
 e gorgeous Tara Spades
ATTACH;FMTTYPE=image/jpeg:https://i0.wp.com/blog.ukxxxpass.xxx/wp-content/
 uploads/2017/01/February16th-1.jpg?fit=905%2C1280&ssl=1
LOCATION:The Private Club\, Wainwright Street\, Aston\, West Midlands\, B6 
 5TJ\, Birmingham\, United Kingdom
GEO:52.5002541;-1.8779884000000493
X-APPLE-STRUCTURED-LOCATION;VALUE=URI;X-ADDRESS=Wainwright Street\, Aston\,
  West Midlands\, B6 5TJ\, Birmingham\, United Kingdom;X-APPLE-RADIUS=100;X
 -TITLE=The Private Club:geo:52.5002541,-1.8779884000000493
END:VEVENT
END:VCALENDAR