BEGIN:VCALENDAR
VERSION:2.0
PRODID:-//wp-events-plugin.com//7.2.3.1//EN
BEGIN:VEVENT
UID:56@blog.ukxxxpass.xxx
DTSTART:20171108T200000Z
DTEND:20171108T223000Z
DTSTAMP:20171014T215234Z
URL:https://blog.ukxxxpass.xxx/events/bukkake-gangbang-tara-spades-ella-be
 lla/
SUMMARY:Bukkake and gangbang party with Tara Spades and Ella Bella
DESCRIPTION:Wednesday 8th November October\, 8pm bukkake and gangbang party
  at the Private Club\, Aston\, Birmingham. Featuring  pornstar stunners El
 la Bella and Tara Spades.
ATTACH;FMTTYPE=image/jpeg:https://i0.wp.com/blog.ukxxxpass.xxx/wp-content/
 uploads/2017/10/Nov8th.jpg?fit=905%2C1280&ssl=1
LOCATION:The Private Club\, Wainwright Street\, Aston\, West Midlands\, B6 
 5TJ\, Birmingham\, United Kingdom
GEO:52.5002541;-1.8779884000000493
X-APPLE-STRUCTURED-LOCATION;VALUE=URI;X-ADDRESS=Wainwright Street\, Aston\,
  West Midlands\, B6 5TJ\, Birmingham\, United Kingdom;X-APPLE-RADIUS=100;X
 -TITLE=The Private Club:geo:52.5002541,-1.8779884000000493
END:VEVENT
END:VCALENDAR