BEGIN:VCALENDAR
VERSION:2.0
PRODID:-//wp-events-plugin.com//7.2.3.1//EN
BEGIN:VEVENT
UID:158@blog.ukxxxpass.xxx
DTSTART:20230223T200000Z
DTEND:20230223T233000Z
DTSTAMP:20230220T075010Z
URL:https://blog.ukxxxpass.xxx/events/europussy-bukkake-and-gangbang-23rd-
 february/
SUMMARY:Europussy bukkake and gangbang\, 23rd February\, Walsall
DESCRIPTION:Europussy bukkake and gangbang 23rd February\, Walsall with lov
 ely Belgian babe KimberlyX and Melody Pleasure
ATTACH;FMTTYPE=image/jpeg:https://i0.wp.com/blog.ukxxxpass.xxx/wp-content/
 uploads/2023/02/Feb23rd_Walsall_Europussy-1-scaled.jpg?fit=1810%2C2560&ssl
 =1
LOCATION:Roxy's Den\, 33 Midland Road\, Walsall\, West Midlands\, WS1 3QQ\,
  United Kingdom
X-APPLE-STRUCTURED-LOCATION;VALUE=URI;X-ADDRESS=33 Midland Road\, Walsall\,
  West Midlands\, WS1 3QQ\, United Kingdom;X-APPLE-RADIUS=100;X-TITLE=Roxy'
 s Den:geo:0,0
END:VEVENT
END:VCALENDAR