BEGIN:VCALENDAR
VERSION:2.0
PRODID:-//wp-events-plugin.com//7.2.3.1//EN
BEGIN:VEVENT
UID:8@blog.ukxxxpass.xxx
DTSTART:20160223T200000Z
DTEND:20160223T223000Z
DTSTAMP:20160217T071755Z
URL:https://blog.ukxxxpass.xxx/events/february-23rd-bukkake-and-gangbang-p
 arty-with-jakki-louise-and-ava/
SUMMARY:February 23rd\, bukkake and gangbang party with Jakki Louise and Av
 a
DESCRIPTION:February 23rd\, bukkake and gangbang party with Jakki Louise an
 d Ava
LOCATION:The Private Club\, Wainwright Street\, Aston\, West Midlands\, B6 
 5TJ\, Birmingham\, United Kingdom
GEO:52.5002541;-1.8779884000000493
X-APPLE-STRUCTURED-LOCATION;VALUE=URI;X-ADDRESS=Wainwright Street\, Aston\,
  West Midlands\, B6 5TJ\, Birmingham\, United Kingdom;X-APPLE-RADIUS=100;X
 -TITLE=The Private Club:geo:52.5002541,-1.8779884000000493
END:VEVENT
END:VCALENDAR