BEGIN:VCALENDAR
VERSION:2.0
PRODID:-//wp-events-plugin.com//7.2.3.1//EN
BEGIN:VEVENT
UID:135@blog.ukxxxpass.xxx
DTSTART:20220406T110000Z
DTEND:20220406T140000Z
DTSTAMP:20220329T064437Z
URL:https://blog.ukxxxpass.xxx/events/foxxx-parties-leicester-rainbowhair-
 special/
SUMMARY:Foxxx Parties Leicester Rainbow-hair Special
DESCRIPTION:Foxxx Parties present a Rainbow hair Special bukkake and gangba
 ng\, with Mandy Foxxx\, Forbidden Angel\, Sunflower Doll\, Gigi Rouge and 
 Pixie Peach. Contact Foxxx Parties to go along and join in
ATTACH;FMTTYPE=image/jpeg:https://i0.wp.com/blog.ukxxxpass.xxx/wp-content/
 uploads/2022/03/Rainbowparty_v2-scaled.jpg?fit=1991%2C2560&ssl=1
END:VEVENT
END:VCALENDAR