BEGIN:VCALENDAR
VERSION:2.0
PRODID:-//wp-events-plugin.com//7.2.3.1//EN
BEGIN:VEVENT
UID:123@blog.ukxxxpass.xxx
DTSTART:20211108T120000Z
DTEND:20211108T150000Z
DTSTAMP:20211005T204253Z
URL:https://blog.ukxxxpass.xxx/events/foxxx-parties-manchester-ginger-girl
 s-special/
SUMMARY:Foxxx Parties Manchester Ginger Girls Special
DESCRIPTION:Foxxx Parties present a Ginger Girls Special bukkake and gangba
 ng\, with Mandy Foxxx\, Demi Devine\, Aloralux and Forbidden Angel. Contac
 t Foxxx Parties to go along and join in
ATTACH;FMTTYPE=image/jpeg:https://i0.wp.com/blog.ukxxxpass.xxx/wp-content/
 uploads/2021/10/Nov8th_MANCHESTER-scaled.jpg?fit=1741%2C2560&ssl=1
END:VEVENT
END:VCALENDAR