BEGIN:VCALENDAR
VERSION:2.0
PRODID:-//wp-events-plugin.com//7.2.3.1//EN
BEGIN:VEVENT
UID:112@blog.ukxxxpass.xxx
DTSTART:20200312T200000Z
DTEND:20200312T230000Z
DTSTAMP:20200220T222313Z
URL:https://blog.ukxxxpass.xxx/events/gangbang-12th-march-evangeline-love-
 roxy-lace/
SUMMARY:Gangbang 12th March with Evangeline Love and Roxy Lace
DESCRIPTION:Gangbang party\, 12th March\, 8pm Birmingham at The Private Clu
 b. Featuring gorgeous new model Evangeline Love and gorgeous Roxy Lace. Co
 me along and join in!
ATTACH;FMTTYPE=image/jpeg:https://i0.wp.com/blog.ukxxxpass.xxx/wp-content/
 uploads/2020/02/MAR12th_BIRMINGHAM.jpg?fit=905%2C1280&ssl=1
LOCATION:The Private Club\, Wainwright Street\, Aston\, West Midlands\, B6 
 5TJ\, Birmingham\, United Kingdom
GEO:52.5002541;-1.8779884000000493
X-APPLE-STRUCTURED-LOCATION;VALUE=URI;X-ADDRESS=Wainwright Street\, Aston\,
  West Midlands\, B6 5TJ\, Birmingham\, United Kingdom;X-APPLE-RADIUS=100;X
 -TITLE=The Private Club:geo:52.5002541,-1.8779884000000493
END:VEVENT
END:VCALENDAR